BEGIN:VCALENDAR
VERSION:2.0
METHOD:PUBLISH
X-WR-CALNAME: Calendario | Facultad de Filosofía y Letras - UBA
PRODID:-//Drupal iCal API//EN
BEGIN:VEVENT
UID:calendar.1259.changed.0.0
SUMMARY:HORARIOS 2026
DTSTAMP:20260423T150708Z
DTSTART:20260423Z
DTEND:20260423Z
1776951792
URL;VALUE=URI:https://letrasclasicas.filo.uba.ar/novedades/horarios-2026
END:VEVENT
END:VCALENDAR
